
BEGIN:VCALENDAR
VERSION:2.0
PRODID:-//Impact Hub Dresden - ECPv6.15.20//NONSGML v1.0//EN
CALSCALE:GREGORIAN
METHOD:PUBLISH
X-WR-CALNAME:Impact Hub Dresden
X-ORIGINAL-URL:https://dresden.impacthub.net
X-WR-CALDESC:Veranstaltungen für Impact Hub Dresden
REFRESH-INTERVAL;VALUE=DURATION:PT1H
X-Robots-Tag:noindex
X-PUBLISHED-TTL:PT1H
BEGIN:VTIMEZONE
TZID:Europe/Helsinki
BEGIN:DAYLIGHT
TZOFFSETFROM:+0200
TZOFFSETTO:+0300
TZNAME:EEST
DTSTART:20250330T010000
END:DAYLIGHT
BEGIN:STANDARD
TZOFFSETFROM:+0300
TZOFFSETTO:+0200
TZNAME:EET
DTSTART:20251026T010000
END:STANDARD
BEGIN:DAYLIGHT
TZOFFSETFROM:+0200
TZOFFSETTO:+0300
TZNAME:EEST
DTSTART:20260329T010000
END:DAYLIGHT
BEGIN:STANDARD
TZOFFSETFROM:+0300
TZOFFSETTO:+0200
TZNAME:EET
DTSTART:20261025T010000
END:STANDARD
BEGIN:DAYLIGHT
TZOFFSETFROM:+0200
TZOFFSETTO:+0300
TZNAME:EEST
DTSTART:20270328T010000
END:DAYLIGHT
BEGIN:STANDARD
TZOFFSETFROM:+0300
TZOFFSETTO:+0200
TZNAME:EET
DTSTART:20271031T010000
END:STANDARD
END:VTIMEZONE
BEGIN:VEVENT
DTSTART;TZID=Europe/Helsinki:20260429T160000
DTEND;TZID=Europe/Helsinki:20260429T180000
DTSTAMP:20260419T172928
CREATED:20260406T064318Z
LAST-MODIFIED:20260415T065946Z
UID:10001423-1777478400-1777485600@dresden.impacthub.net
SUMMARY:Mentale Gesundheit stärken: Resilienz & Stresskompetenz im Arbeitsalltag
DESCRIPTION:Politische Konflikte\, globale Krisen und die stete Beschleunigung der Arbeitswelt fordern uns alle heraus. Stress ist für viele Menschen in Sachsen zum ständigen Begleiter geworden. Der aktuelle TK-Stressreport 2025 für Sachsen zeigt deutlich: Die Belastungsgrenzen sind vielerorts erreicht. \nDoch Stress ist auch ein wertvolles Alarmsignal. Er macht bewusst\, wenn das Gleichgewicht fehlt\, und bietet die Chance\, die eigene Widerstandskraft gezielt zu stärken. \nDer Impuls: Wege zu mehr Resilienz und Selbstwirksamkeit\nWie lässt sich diesem allgegenwärtigen Druck effektiv begegnen? Wie gelingt es\, im Berufsalltag fit und ausgeglichen zu bleiben? In dieser Impuls-Keynote gibt Saskia Rudolph\, Expertin für Angewandte Positive Psychologie\, praxisnahe Einblicke in Strategien zur Stärkung der mentalen Gesundheit. \nDie Schwerpunkte des Inputs: \n\nPositive Psychologie in der Praxis: Nutzung persönlicher Ressourcen für eine gesundheitsförderliche Stressbewältigung\nResilienz im Fokus: Impulse zur nachhaltigen Steigerung der Widerstandskraft und Selbstwirksamkeit im Arbeitsalltag\nAchtsame Stresskompetenz: Stresssignale frühzeitig erkennen und für mehr Lebensqualität nutzen\n\nAustausch & Vernetzung im Vesper-Setting\nIm Anschluss an den fachlichen Input besteht die Möglichkeit\, das Thema in entspannter Atmosphäre zu vertiefen. Im gemütlichen Vesper-Setting lassen sich in Kleingruppen eigene Erfahrungen diskutieren und das persönliche Netzwerk erweitern. \n\nRundum versorgt: Verschiedene Speisen und Getränke stehen kostenfrei bereit\, um den Fokus ganz auf die Gespräche zu richten.\n\n\nCoworking-Option: Alle Gäste sind herzlich eingeladen\, bereits tagsüber vor Ort zu arbeiten und die Räumlichkeiten zum Coworken zu nutzen.\n\nJetzt anmelden
URL:https://dresden.impacthub.net/event/mentale-gesundheit-staerken-resilienz-stresskompetenz-im-arbeitsalltag/
LOCATION:Impact Hub Dresden – Galerie\, Trompeterstraße 5\, 01069 Dresden\, Dresden\, 01069\, DE
CATEGORIES:Business Development,impact hub germany,Inspiring Ideas,learn,networking,Personal development
ATTACH;FMTTYPE=image/png:https://dresden.impacthub.net/wp-content/uploads/2026/04/TK-Insight-Talks-6-Banner-Eventbrite.png
ORGANIZER;CN="Impact Hub Dresden":MAILTO:dresden@impacthub.net
GEO:51.0457761;13.73494
X-APPLE-STRUCTURED-LOCATION;VALUE=URI;X-ADDRESS=Impact Hub Dresden – Galerie Trompeterstraße 5 01069 Dresden Dresden 01069 DE;X-APPLE-RADIUS=500;X-TITLE=Trompeterstraße 5\, 01069 Dresden:geo:13.73494,51.0457761
END:VEVENT
BEGIN:VEVENT
DTSTART;TZID=Europe/Helsinki:20260609T090000
DTEND;TZID=Europe/Helsinki:20260609T160000
DTSTAMP:20260419T172928
CREATED:20260415T064029Z
LAST-MODIFIED:20260415T064154Z
UID:10001425-1780995600-1781020800@dresden.impacthub.net
SUMMARY:Women Impact Day Dresden – Podium. Workshops. Netzwerken.
DESCRIPTION:Women Impact Day Dresden – Podium. Workshops. Netzwerken. \nAm 9. Juni laden wir zum Impulstag in den Impact Hub Dresden Standort Galerie ein. Der Women Impact Day Dresden bringt Frauen aus unterschiedlichen Lebens- und Karrierephasen zusammen – (angehende) Führungskräfte\, selbständige Mütter und alle Frauen\, die sich vernetzen\, wachsen und etwas bewegen möchten. \nIm Fokus steht das Thema Rollenvielfalt & Rollenkonflikte: Zwischen Karriere\, Selbstverwirklichung\, Familie und gesellschaftlichen Erwartungen bewegen sich viele Frauen täglich im Spannungsfeld von Mental Load\, strukturellen Herausforderungen und dem Wunsch nach Vereinbarkeit. Wie können wir unsere verschiedenen Rollen bewusst gestalten – statt zwischen ihnen zerrieben zu werden? \nFreut euch auf: \n\nKeynote-Speakerin (tba) \nPodiumsdiskussion mit Impulsen zu Rollenbildern\, strukturellen Dimensionen und persönlichen Erfahrungen\nInteraktive Workshops zu Karriere in unterschiedlichen Lebensphasen\, Netzwerken als Karriere-Booster sowie Mental Load & Vereinbarkeit\nViel Raum zum Netzwerken mit engagierten Frauen aus Wirtschaft\, Selbstständigkeit und Initiativen\nGemeinsames Mittagessen und Kaffeepause in inspirierender Atmosphäre\n\n🕘 9:00–16:00 Uhr\n👥 Max. 70 Teilnehmerinnen\n📝 Anmeldung mit Workshopwahl\, Teilnahmebeitrag 36€ \nJetzt über Eventfrog anmelden.\nEin Tag voller Austausch\, Inspiration und ehrlicher Einblicke – für alle\, die ihre Wirkung stärken und neue Perspektiven gewinnen möchten.\n————————————————————————————————————————————————————-\nFördermittelhinweis: \nDiese Veranstaltung wird organisiert vom Projekt Wave des Bildungswerks der Sächsischen Wirtschaft und dem Projekt Business\, Baby! des Impact Hub Dresden. Die Projekte sind gefördert durch die Richtlinie ESF Plus Gleichstellung – Teil A: Förderung der Selbständigkeit von Frauen. \nDer Teilnahmebeitrag dient zur Deckung der Buffetkosten\, die nicht durch Fördermittel gedeckt sind. Dadurch entstehen weder dem Impact Hub Dresden noch dem Bildungswerk der Sächsischen Wirtschaft Einnahmen.
URL:https://dresden.impacthub.net/event/women-impact-day-dresden-podium-workshops-netzwerken/
LOCATION:Impact Hub Dresden – Galerie\, Trompeterstraße 5\, 01069 Dresden\, Dresden\, 01069\, DE
CATEGORIES:community,Connect,impact hub germany,Inspiring Ideas,learn,networking,Personal development
ATTACH;FMTTYPE=image/png:https://dresden.impacthub.net/wp-content/uploads/2026/04/header_woman_impact-day.png
ORGANIZER;CN="Impact Hub Dresden":MAILTO:dresden@impacthub.net
GEO:51.0457761;13.73494
X-APPLE-STRUCTURED-LOCATION;VALUE=URI;X-ADDRESS=Impact Hub Dresden – Galerie Trompeterstraße 5 01069 Dresden Dresden 01069 DE;X-APPLE-RADIUS=500;X-TITLE=Trompeterstraße 5\, 01069 Dresden:geo:13.73494,51.0457761
END:VEVENT
BEGIN:VEVENT
DTSTART;TZID=Europe/Helsinki:20260625T173000
DTEND;TZID=Europe/Helsinki:20260625T203000
DTSTAMP:20260419T172928
CREATED:20260415T064652Z
LAST-MODIFIED:20260415T064652Z
UID:10001426-1782408600-1782419400@dresden.impacthub.net
SUMMARY:SINN Innovationsbühne am 25.06.2026
DESCRIPTION:Mit der Innovationsbühne feiern wir den Abschluss des 5. SINNkubator-Durchgangs und geben 10 Ideen die Bühne und Aufmerksamkeit\, die sie verdienen. \nSeit dem Kickoff-Wochenende Mitte April haben die Teams in drei intensiven Monaten und sechs Workshops an unterschiedlichen Orten in Sachsen ihre Ideen geschärft und weiterentwickelt. \nZum Abschluss des Programms präsentieren sie ihre Vorhaben in kurzen Pitches. Gleichzeitig bringt die Innovationsbühne Menschen zusammen\, die die Teams im Programm begleitet haben\, und solche\, die für ihren weiteren Weg relevant sein können: Alumni\, Unterstützungsorganisationen\, frühere Jury-Mitglieder\, Workshoptrainer:innen und weitere Interessierte. \nAblauf:\n17:30 Uhr Einlass\n18:00 Uhr Begrüßung\n18:15 Uhr Pitch-Runde 1\n18:45 Uhr Pause\n19:15 Uhr Pitch-Runde 2\n19:45 Uhr Vernetzung und Ausklang \nEin Abend für Sichtbarkeit\, Austausch und neue Verbindungen. \nJetzt anmelden
URL:https://dresden.impacthub.net/event/sinn-innovationsbuehne-am-25-06-2026/
LOCATION:Impact Hub Dresden – Galerie\, Trompeterstraße 5\, 01069 Dresden\, Dresden\, 01069\, DE
CATEGORIES:community,Connect,impact hub germany,Inspiring Ideas,learn,networking
ATTACH;FMTTYPE=image/jpeg:https://dresden.impacthub.net/wp-content/uploads/2026/04/garbe_ESF-KonferenzSINNovationsfest71Kopie.jpg
ORGANIZER;CN="SINN Sachsen":MAILTO:events@sinn-sachsen.de
GEO:51.0457761;13.73494
X-APPLE-STRUCTURED-LOCATION;VALUE=URI;X-ADDRESS=Impact Hub Dresden – Galerie Trompeterstraße 5 01069 Dresden Dresden 01069 DE;X-APPLE-RADIUS=500;X-TITLE=Trompeterstraße 5\, 01069 Dresden:geo:13.73494,51.0457761
END:VEVENT
END:VCALENDAR