
BEGIN:VCALENDAR
VERSION:2.0
PRODID:-//Impact Hub Dresden - ECPv6.15.20//NONSGML v1.0//EN
CALSCALE:GREGORIAN
METHOD:PUBLISH
X-WR-CALNAME:Impact Hub Dresden
X-ORIGINAL-URL:https://dresden.impacthub.net
X-WR-CALDESC:Veranstaltungen für Impact Hub Dresden
REFRESH-INTERVAL;VALUE=DURATION:PT1H
X-Robots-Tag:noindex
X-PUBLISHED-TTL:PT1H
BEGIN:VTIMEZONE
TZID:Europe/Helsinki
BEGIN:DAYLIGHT
TZOFFSETFROM:+0200
TZOFFSETTO:+0300
TZNAME:EEST
DTSTART:20200329T010000
END:DAYLIGHT
BEGIN:STANDARD
TZOFFSETFROM:+0300
TZOFFSETTO:+0200
TZNAME:EET
DTSTART:20201025T010000
END:STANDARD
BEGIN:DAYLIGHT
TZOFFSETFROM:+0200
TZOFFSETTO:+0300
TZNAME:EEST
DTSTART:20210328T010000
END:DAYLIGHT
BEGIN:STANDARD
TZOFFSETFROM:+0300
TZOFFSETTO:+0200
TZNAME:EET
DTSTART:20211031T010000
END:STANDARD
BEGIN:DAYLIGHT
TZOFFSETFROM:+0200
TZOFFSETTO:+0300
TZNAME:EEST
DTSTART:20220327T010000
END:DAYLIGHT
BEGIN:STANDARD
TZOFFSETFROM:+0300
TZOFFSETTO:+0200
TZNAME:EET
DTSTART:20221030T010000
END:STANDARD
BEGIN:DAYLIGHT
TZOFFSETFROM:+0200
TZOFFSETTO:+0300
TZNAME:EEST
DTSTART:20230326T010000
END:DAYLIGHT
BEGIN:STANDARD
TZOFFSETFROM:+0300
TZOFFSETTO:+0200
TZNAME:EET
DTSTART:20231029T010000
END:STANDARD
BEGIN:DAYLIGHT
TZOFFSETFROM:+0200
TZOFFSETTO:+0300
TZNAME:EEST
DTSTART:20240331T010000
END:DAYLIGHT
BEGIN:STANDARD
TZOFFSETFROM:+0300
TZOFFSETTO:+0200
TZNAME:EET
DTSTART:20241027T010000
END:STANDARD
BEGIN:DAYLIGHT
TZOFFSETFROM:+0200
TZOFFSETTO:+0300
TZNAME:EEST
DTSTART:20250330T010000
END:DAYLIGHT
BEGIN:STANDARD
TZOFFSETFROM:+0300
TZOFFSETTO:+0200
TZNAME:EET
DTSTART:20251026T010000
END:STANDARD
BEGIN:DAYLIGHT
TZOFFSETFROM:+0200
TZOFFSETTO:+0300
TZNAME:EEST
DTSTART:20260329T010000
END:DAYLIGHT
BEGIN:STANDARD
TZOFFSETFROM:+0300
TZOFFSETTO:+0200
TZNAME:EET
DTSTART:20261025T010000
END:STANDARD
BEGIN:DAYLIGHT
TZOFFSETFROM:+0200
TZOFFSETTO:+0300
TZNAME:EEST
DTSTART:20270328T010000
END:DAYLIGHT
BEGIN:STANDARD
TZOFFSETFROM:+0300
TZOFFSETTO:+0200
TZNAME:EET
DTSTART:20271031T010000
END:STANDARD
END:VTIMEZONE
BEGIN:VTIMEZONE
TZID:Europe/Berlin
BEGIN:DAYLIGHT
TZOFFSETFROM:+0100
TZOFFSETTO:+0200
TZNAME:CEST
DTSTART:20240331T010000
END:DAYLIGHT
BEGIN:STANDARD
TZOFFSETFROM:+0200
TZOFFSETTO:+0100
TZNAME:CET
DTSTART:20241027T010000
END:STANDARD
BEGIN:DAYLIGHT
TZOFFSETFROM:+0100
TZOFFSETTO:+0200
TZNAME:CEST
DTSTART:20250330T010000
END:DAYLIGHT
BEGIN:STANDARD
TZOFFSETFROM:+0200
TZOFFSETTO:+0100
TZNAME:CET
DTSTART:20251026T010000
END:STANDARD
BEGIN:DAYLIGHT
TZOFFSETFROM:+0100
TZOFFSETTO:+0200
TZNAME:CEST
DTSTART:20260329T010000
END:DAYLIGHT
BEGIN:STANDARD
TZOFFSETFROM:+0200
TZOFFSETTO:+0100
TZNAME:CET
DTSTART:20261025T010000
END:STANDARD
END:VTIMEZONE
BEGIN:VEVENT
DTSTART;TZID=Europe/Helsinki:20260115T180000
DTEND;TZID=Europe/Helsinki:20260115T200000
DTSTAMP:20260420T083148
CREATED:20260113T080422Z
LAST-MODIFIED:20260113T080422Z
UID:10001272-1768500000-1768507200@dresden.impacthub.net
SUMMARY:Hub & Wine
DESCRIPTION:Hub‑Weinverkostung\n\n\n\nWir verkosten 3–4 Weine\, die zur winterlichen Gemütlichkeit passen. Weich\, rund und würzig mit passenden Snacks. Unsere Hub-Sommelier Antje bereitet außerdem ein kleines Quiz für euch vor. Ob du Wein-Neuling oder einfach Genießer bist – im Mittelpunkt stehen gute Gespräche\, Humor und ein gemütlicher Abend. Also schnell anmelden und nicht verpassen! \n\n\n\nMehr Infos und Registrierung über Eventfrog
URL:https://dresden.impacthub.net/event/hub-wine-2/
LOCATION:Impact Hub Dresden – Hbf\, Bayrische Straße 8\, Dresden\, Sachsen\, 01069\, Deutschland
CATEGORIES:community
ATTACH;FMTTYPE=image/png:https://dresden.impacthub.net/wp-content/uploads/2026/01/hubandwine.png
ORGANIZER;CN="Impact Hub Dresden":MAILTO:dresden@impacthub.net
GEO:51.04002;13.72931
X-APPLE-STRUCTURED-LOCATION;VALUE=URI;X-ADDRESS=Impact Hub Dresden – Hbf Bayrische Straße 8 Dresden Sachsen 01069 Deutschland;X-APPLE-RADIUS=500;X-TITLE=Bayrische Straße 8:geo:13.72931,51.04002
END:VEVENT
BEGIN:VEVENT
DTSTART;TZID=Europe/Helsinki:20250829T090000
DTEND;TZID=Europe/Helsinki:20250829T103000
DTSTAMP:20260420T083148
CREATED:20250717T174125Z
LAST-MODIFIED:20250730T151448Z
UID:10001259-1756458000-1756463400@dresden.impacthub.net
SUMMARY:Eine kleine Tee-Entdeckungsreise
DESCRIPTION:Tauche ein in die faszinierende Welt des Tees! Erlebe eine spannende Blindverkostung und lerne die sechs Tee-Typen interaktiv kennen\, begleitet von unserer Tea Sommelierin und Meisterin der chinesischen Teezeremonie\, Wen Liu. \nWas dich erwartet: \n\nSpannende Blindverkostung\nInteraktives Kennenlernen der sechs Tee-Typen\nBegleitung durch Wen Liu\, Senior Tea Taster\, Tea Sommelierin und Meisterin der chinesischen Teezeremonie\n\nDatum und Uhrzeit: Freitag\, 29.08.2025\, 09:00 – 10:30 Uhr \nOrt: Impact Hub Dresden Bayrische Str. 8\, 01069 Dresden \nPreis: 25 Euro pro Person\, Zahlung vor Ort in bar \nTeilnehmerzahl: Maximal 15 Personen \nJetzt über Eventbrite anmelden  \nAnmeldeschluss: 25.08.2025 \nBeschreibung: Was ist in deiner Lieblingstasse? Ist das wirklich Tee oder eher eine Infusion? Wie viele verschiedene Teepflanzen gibt es auf der Welt? Was hat Tee mit Glutamat zu tun? Kannst du dir vorstellen\, dass manche Tees teurer sind als eine Eigentumswohnung in Deutschland? Wenn jetzt kleine Fragezeichen in deinem Kopf zu tanzen beginnen\, dann komm unbedingt zum Community Breakfast am Hauptbahnhof am Freitag\, den 29.08.2025! Neben dem leckeren Frühstück gibt es bei einer Tasse Tee (oder auch mehreren) viele weitere spannende Fragen zu dem unglaublich großen Universum des Tees!
URL:https://dresden.impacthub.net/event/eine-kleine-tee-entdeckungsreise/
LOCATION:Impact Hub Dresden – Hbf\, Bayrische Straße 8\, Dresden\, Sachsen\, 01069\, Deutschland
CATEGORIES:impact hub germany,learn
ATTACH;FMTTYPE=image/png:https://dresden.impacthub.net/wp-content/uploads/2025/07/2025-07-17_19-42.png
ORGANIZER;CN="Impact Hub Dresden":MAILTO:dresden@impacthub.net
GEO:51.04002;13.72931
X-APPLE-STRUCTURED-LOCATION;VALUE=URI;X-ADDRESS=Impact Hub Dresden – Hbf Bayrische Straße 8 Dresden Sachsen 01069 Deutschland;X-APPLE-RADIUS=500;X-TITLE=Bayrische Straße 8:geo:13.72931,51.04002
END:VEVENT
BEGIN:VEVENT
DTSTART;TZID=Europe/Helsinki:20250603T090000
DTEND;TZID=Europe/Helsinki:20250603T170000
DTSTAMP:20260420T083148
CREATED:20250528T070032Z
LAST-MODIFIED:20250619T233816Z
UID:10001258-1748941200-1748970000@dresden.impacthub.net
SUMMARY:SINN Coworking Tag für Sozialinnovator:innen
DESCRIPTION:Wir laden euch herzlich zum SINN Coworking Tag im Impact Hub Dresden ein. Ab 09:00 Uhr starten wir mit einem kleinen moderierten Frühstück für Sozialinnovator:innen.\nVon 10:00-17:00 Uhr könnt ihr die Gelegenheit nutzen\, um mit anderen Engagierten zu co-worken. Auch das SINN-Team wird vor Ort sein – eine perfekte Möglichkeit\, uns kennenzulernen\, Ideen auszutauschen und an euren Projekten zu arbeiten. \nWarum solltet ihr dabei sein?\n– Netzwerken mit Gleichgesinnten\n– Zugang zu einer kreativen Arbeitsumgebung\n– Spannende Gespräche und neue Perspektiven \nMehr Infos und kostenfreie Anmeldung
URL:https://dresden.impacthub.net/event/sinn-coworking-tag-fuer-sozialinnovatorinnen/
LOCATION:Impact Hub Dresden – Hbf\, Bayrische Straße 8\, Dresden\, Sachsen\, 01069\, Deutschland
CATEGORIES:community,Connect,impact hub germany,learn,meetup
ATTACH;FMTTYPE=image/png:https://dresden.impacthub.net/wp-content/uploads/2025/05/2025-05-28_19-40.png
ORGANIZER;CN="SINN Sachsen":MAILTO:events@sinn-sachsen.de
GEO:51.04002;13.72931
X-APPLE-STRUCTURED-LOCATION;VALUE=URI;X-ADDRESS=Impact Hub Dresden – Hbf Bayrische Straße 8 Dresden Sachsen 01069 Deutschland;X-APPLE-RADIUS=500;X-TITLE=Bayrische Straße 8:geo:13.72931,51.04002
END:VEVENT
BEGIN:VEVENT
DTSTART;TZID=Europe/Helsinki:20250508T180000
DTEND;TZID=Europe/Helsinki:20250508T200000
DTSTAMP:20260420T083148
CREATED:20250505T084537Z
LAST-MODIFIED:20250505T085339Z
UID:10001256-1746727200-1746734400@dresden.impacthub.net
SUMMARY:Hub & Wine
DESCRIPTION:Hub‑Weinverkostung\n? Diese Woche ist es soweit: Wir freuen uns\, euch zu unserer ersten Hub‑Weinverkostung einzuladen! ? \n? Am 8. Mai führt uns Hubbie Antje\, eine Sommelier‑Trainee\, in das faszinierende Weinanbaugebiet Sachsen ein. Erfahrt mehr über die Größe\, Besonderheiten und Rebsorten dieser Region\, während wir gemeinsam drei lokale Winzerweine verkosten. \n? Zu den Weinen werden Baguette und Antipasti als Snacks gereicht. \n? Teilnahmegebühr: 10 € \n? Ihr wollt dabei sein?\n1️⃣ Bucht einen Platz über Eventbrite: https://www.eventbrite.de/e/hub-wine-tickets-1319993117949?aff=oddtdtcreator&mc_cid=b12dfa882d&mc_eid=927b1bdec02️⃣ Zeigt dem Host des Tages am Hostingdesk eure Bestätigung von Eventbrite3️⃣ Bezahlt anschließend dort die 10 € in bar (bitte passend) \n? Lasst euch dieses einzigartige Erlebnis nicht entgehen! Wir freuen uns auf einen genussvollen Abend mit euch!
URL:https://dresden.impacthub.net/event/hub-wine/
LOCATION:Impact Hub Dresden – Hbf\, Bayrische Straße 8\, Dresden\, Sachsen\, 01069\, Deutschland
ORGANIZER;CN="Impact Hub Dresden":MAILTO:dresden@impacthub.net
GEO:51.04002;13.72931
X-APPLE-STRUCTURED-LOCATION;VALUE=URI;X-ADDRESS=Impact Hub Dresden – Hbf Bayrische Straße 8 Dresden Sachsen 01069 Deutschland;X-APPLE-RADIUS=500;X-TITLE=Bayrische Straße 8:geo:13.72931,51.04002
END:VEVENT
BEGIN:VEVENT
DTSTART;TZID=Europe/Berlin:20250211T170000
DTEND;TZID=Europe/Berlin:20250211T200000
DTSTAMP:20260420T083149
CREATED:20250205T083747Z
LAST-MODIFIED:20250205T083747Z
UID:10001119-1739293200-1739304000@dresden.impacthub.net
SUMMARY:Community Event - Mentale Gesundheit
DESCRIPTION:Community Event – Mentale Gesundheit \nEin Abend zum connecten\, inspirieren und voneinander lernen. \nEs nützt nichts über mentale Gesundheit „nur“ nachzudenken. Komm mit deiner liebsten Co-Wo Community in den Austausch und ins Erleben. Dich erwarten u.a. eine offene Austauschrunde zum Sinnieren\, die einfachste Möglichkeit deine Widerstandsfähigkeit zu stärken und mehr.. \nDer Abend ist so gestaltet\, dass auch spontane Beiträge sehr willkommen sind. Hast du eine Idee\, einen Impuls\, gute Bewältigungsstrategien\, die du mit deiner Community teilen möchtest? Dann bringe sie einfach mit und gestalte eine Session. \nEs können bis zu 6 Sessions parallel stattfinden in 4 Durchläufen. D.h. Teilnehmende können insgesamt an 4 verschiedenen Sessions teilnehmen. \nDie Teilnahme ist kostenfrei. Für Catering und Orga freuen wir uns über deinen Beitrag vor Ort in bar. Empfehlung für Member 10 EUR und für Externe 20 EUR. \nWir freuen uns auf den gemeinsamen Abend.\nPaula und Sandra \nFragen? Kontaktiere paula.salomo@impacthub.net \nTicketseite besuchen
URL:https://dresden.impacthub.net/event/community-event-mentale-gesundheit/
LOCATION:Impact Hub Dresden – Hbf\, Bayrische Straße 8\, Dresden\, Sachsen\, 01069\, Deutschland
CATEGORIES:community,Connect,impact hub germany,Inspiring Ideas,learn
ATTACH;FMTTYPE=image/png:https://dresden.impacthub.net/wp-content/uploads/2025/01/2025-02-05_16-35.png
ORGANIZER;CN="Impact Hub Dresden":MAILTO:dresden@impacthub.net
GEO:51.04002;13.72931
X-APPLE-STRUCTURED-LOCATION;VALUE=URI;X-ADDRESS=Impact Hub Dresden – Hbf Bayrische Straße 8 Dresden Sachsen 01069 Deutschland;X-APPLE-RADIUS=500;X-TITLE=Bayrische Straße 8:geo:13.72931,51.04002
END:VEVENT
BEGIN:VEVENT
DTSTART;TZID=Europe/Helsinki:20240830T090000
DTEND;TZID=Europe/Helsinki:20240830T100000
DTSTAMP:20260420T083149
CREATED:20240814T085637Z
LAST-MODIFIED:20240814T090800Z
UID:10001109-1725008400-1725012000@dresden.impacthub.net
SUMMARY:SINN Skillshare-Stunde zu Sozialen Innovationen
DESCRIPTION:Die Skillshare-Stunde ist das Lern- und Austauschformat von SINN Sachsen. „Skillshare“ bedeutet so viel wie Austausch von Fertigkeiten oder Kompetenzen. Dazu treffen wir uns jeden letzten Freitag im Monat in gemütlicher Runde und begrüßen einen Gast zu einem Thema im Bereich Soziale Innovationen. Wir sprechen über sein:ihr aktuelles Projekt\, aber auch über aktuelle Erkenntnisse und persönliches Wissen\, das es zu teilen gilt. \nIm August findet die Skillshare- Stunde im Rahmen des Community Frühstucks in Dresden statt\, es geht um das Thema „Aufmerksamkeit & Zuhören. Welche Bedeutung hat es für uns in der Kommunikation?“ und wird von Beno Brezan begleitet. \n\n\n\n\nDie Skillshare-Stunde ist Teil von SINN\, der Zukunftsplattform für soziale Innovationen. Dies ist ein Projekt des Freistaates Sachsen unter der Mitwirkung von Caritas Sachsen\, DRK Sachsen\, Impact Hub Dresden\, Impact Hub Leipzig\, parikom und Startnext.
URL:https://dresden.impacthub.net/event/sinn-skillshare-stunde-zu-sozialen-innovationen/
LOCATION:Impact Hub Dresden – Hbf\, Bayrische Straße 8\, Dresden\, Sachsen\, 01069\, Deutschland
CATEGORIES:community,Connect,impact hub germany,Inspiring Ideas,learn,meetup
ATTACH;FMTTYPE=image/jpeg:https://dresden.impacthub.net/wp-content/uploads/2024/08/https___cdn.evbuc_.com_images_825021049_1898589501313_1_original.jpeg
ORGANIZER;CN="SINN Sachsen":MAILTO:events@sinn-sachsen.de
GEO:51.04002;13.72931
X-APPLE-STRUCTURED-LOCATION;VALUE=URI;X-ADDRESS=Impact Hub Dresden – Hbf Bayrische Straße 8 Dresden Sachsen 01069 Deutschland;X-APPLE-RADIUS=500;X-TITLE=Bayrische Straße 8:geo:13.72931,51.04002
END:VEVENT
BEGIN:VEVENT
DTSTART;TZID=Europe/Helsinki:20240823T090000
DTEND;TZID=Europe/Helsinki:20240823T100000
DTSTAMP:20260420T083149
CREATED:20240813T102740Z
LAST-MODIFIED:20240814T090811Z
UID:10001108-1724403600-1724407200@dresden.impacthub.net
SUMMARY:Digital für alle: Workshop zur digitalen Teilhabe
DESCRIPTION:Die Initiative „Digital für alle“ und der Impact Hub Dresden laden euch im Rahmen des Community Breakfasts zu einem kostenfreien Workshop zum Thema „digitale Teilhabe“ ein. Der Workshop findet am 23. August von 09:00 bis ca. 10:00 Uhr im Impact Hub Dresden Hauptbahnhof statt. \nZiel des Workshops ist es\, die Bedeutung von digitaler Teilhabe aus unternehmerischer Sicht zu beleuchten und gemeinsam neue Ideen zu erarbeiten\, wie wir alle mit unserer Arbeit dazu beitragen können\, mehr Menschen Zugang zur digitalen Welt zu ermöglichen. \nNach einem kurzen Intro zum aktuellen Stand der digitalen Teilhabe in Deutschland werden Best-Practices vorgestellt\, die bereits zeigen\, wie digitale Teilhabe gelingen kann. Auch wollen wir über digitale Barrierefreiheit als Schlüssel für mehr digitale Teilhabe sprechen. Im Anschluss seid Ihr eingeladen\, gemeinsam neue Ideen und Ansätze zu sammeln\, wie digitale Barrieren überwunden und alle Menschen in die digitale Welt integriert werden können. \nDer Workshop ist kostenlos und zum Frühstück laden wir euch herzlich ein. Anmelden kann man sich per Mail an info@digitaltag.eu.  Weitere Informationen zur Initiative „Digital für alle“ findet ihr unter: www.digitaltag.eu. \nGemeinsam für mehr digitale Teilhabe\nDie Initiative „Digital für alle“ setzt sich für eine digitale Gesellschaft ein\, in der alle Menschen unabhängig von Alter\, Herkunft oder Bildungsgrad an den Vorteilen der Digitalisierung teilhaben können. Mit dem Digitaltag\, dem Preis für digitales Miteinander und Workshops\, Schulungen und Informationskampagnen fördert „Digital für alle“ digitale Kompetenzen und sensibilisiert für einen sicheren und verantwortungsvollen Umgang mit digitalen Technologien. \nDie Initiative „Digital für alle“ ist ein breites Bündnis von mehr als 25 Organisationen aus Zivilgesellschaft\, Kultur\, Wissenschaft\, Wirtschaft\, Wohlfahrt und öffentlicher Hand. Das gemeinsame Ziel der Initiative ist es\, digitale Teilhabe in Deutschland zu fördern. \nWas erwartet euch? \n\nHintergrundwissen: Was ist digitale Teilhabe und warum ist sie wichtig?\nPraktische Beispiele: Wir zeigen\, wie digitale Teilhabe gelingen kann.\nIdeen sammeln: Zusammen entwickeln wir neue Ideen und Wege\, wie digitale Hürden abgebaut werden können.\n\nSeid dabei und setzt ein Zeichen für eine digitale Zukunft für alle! Wir freuen uns auf Euch und laden zum Frühstück ein! ?✨ \nAnmelden könnt ihr euch per Mail an info@digitaltag.eu oder per Direktnachricht an @digitaltag_de.
URL:https://dresden.impacthub.net/event/digital-fuer-alle-workshop-zur-digitalen-teilhabe/
LOCATION:Impact Hub Dresden – Hbf\, Bayrische Straße 8\, Dresden\, Sachsen\, 01069\, Deutschland
CATEGORIES:Business Development,community,impact hub germany,learn,meetup,networking
ATTACH;FMTTYPE=image/png:https://dresden.impacthub.net/wp-content/uploads/2024/08/b8639238bc9fde6508d10044f44c45c024d935ee.png
ORGANIZER;CN="DFA Digital f%C3%BCr alle gGmbH":MAILTO:info@digitaltag.eu
GEO:51.04002;13.72931
X-APPLE-STRUCTURED-LOCATION;VALUE=URI;X-ADDRESS=Impact Hub Dresden – Hbf Bayrische Straße 8 Dresden Sachsen 01069 Deutschland;X-APPLE-RADIUS=500;X-TITLE=Bayrische Straße 8:geo:13.72931,51.04002
END:VEVENT
BEGIN:VEVENT
DTSTART;TZID=Europe/Helsinki:20231213T180000
DTEND;TZID=Europe/Helsinki:20231213T180000
DTSTAMP:20260420T083149
CREATED:20231129T141458Z
LAST-MODIFIED:20231129T141620Z
UID:10001096-1702490400-1702490400@dresden.impacthub.net
SUMMARY:L4TB #6 - Klimarisiken und wie wir ihnen mit innovativen Materialien begegnen können
DESCRIPTION:Wir schließen den Kreis unserer sechsteiligen Eventreihe des Ökosystems „Zukunft bauen“ und werden dabei nochmal so richtig konkret: \n\nWo stehen wir bei Nachhaltigkeit in der Baubranche und wo führt das hin?\nWie können uns innovative Materialien dabei helfen\, die komplexen Herausforderungen bei nachhaltigem Bauen zu lösen?Andreas Wittmann wird uns zu Beginn einen Überblick über den Status Quo im Bezug auf Nachhaltigkeit in der Baubranche geben. Dabei wird es unter anderem auch um Klimarisiken (physisch\, rechtlich und wirtschaftlich) gehen\, die beim Bau oder der Planung von Gebäuden als Wertanlage zu beachten sind.Auf dieser Grundlage wird Ines Kästner aufsetzen und anhand von Praxisbeispielen zeigen\, wie der innovative Baustoff Carbobeton als ein Paradebeispiel eingesetzt werden kann\, um nachhaltiger zu bauen.\nIm Anschluss gibt es wie gewohnt Zeit\, sich mit den Expert:innen bei Snacks und Getränken austauschen.\n\n\n\n\n\n\n\n\n\n\nJetzt Ticket buchen\nFörderhinweis \nDie Europäische Union fördert in Deutschland zusammen mit dem Bundesministerium für Wirtschaft und Klimaschutz Programme und Projekte als Teil der Reaktion der Union auf die COVID-19-Pandemie\, finanziert aus der Ausbauhilfe für den Zusammenhalt und die Gebiete Europas (REACT-EU) im Rahmen von NextGenerationEU.
URL:https://dresden.impacthub.net/event/l4tb-6-klimarisiken-und-wie-wir-ihnen-mit-innovativen-materialien-begegnen-koennen/
LOCATION:Impact Hub Dresden – Hbf\, Bayrische Straße 8\, Dresden\, Sachsen\, 01069\, Deutschland
CATEGORIES:impact hub germany
ATTACH;FMTTYPE=image/jpeg:https://dresden.impacthub.net/wp-content/uploads/2023/11/https-__cdn.evbuc_.com_images_648615649_210714776182_1_original.jpeg
ORGANIZER;CN="Impact Hub Dresden":MAILTO:dresden@impacthub.net
GEO:51.04002;13.72931
X-APPLE-STRUCTURED-LOCATION;VALUE=URI;X-ADDRESS=Impact Hub Dresden – Hbf Bayrische Straße 8 Dresden Sachsen 01069 Deutschland;X-APPLE-RADIUS=500;X-TITLE=Bayrische Straße 8:geo:13.72931,51.04002
END:VEVENT
BEGIN:VEVENT
DTSTART;TZID=Europe/Helsinki:20221215T190000
DTEND;TZID=Europe/Helsinki:20221215T190000
DTSTAMP:20260420T083149
CREATED:20221205T111415Z
LAST-MODIFIED:20221212T173934Z
UID:10000526-1671130800-1671130800@dresden.impacthub.net
SUMMARY:GründerGarten Weihnachstfeier mit Moritz Kormann von biochar zero
DESCRIPTION:Wie lässt sich Weihnachten und Unternehmertum am besten verbinden?\nMit einer Geschäftsidee um den Weihnachtsbaum nachhaltig in die eigenen vier Wände zu bringen. Lebende Weihnachtsbäume im Topf\, die nach Weihnachten aufgeforstet weiterleben können\, als Alternative zum jährlich neuen Weihnachtsbaum. Moritz Kormann bringt uns Anekdoten aus der Zeit als Gründer von baumkind in den GründerGarten. \nNeben seinem alten weihnachtlichen Projekt wird Moritz auch zu seinem neuen Projekt „biochar zero“ einige spannende Fakten erzählen. Pflanzenkohle entsteht aus Biomasse und kann vielseitig im Straßenbau\, bei Rekultivierung von Landschaften oder bei der Wasseraufbereitung eingesetzt werden. Wer mehr zu der genauen Idee hinter „biochar zero“ erfahren möchte\, sollte bei unserem Event dabei sein. \nNeben des spannenden Vortrags erwartet euch weihnachtliche Stimmung und auch Glühwein sowie Plätzchen werden nicht fehlen. \nWir laden euch herzlich am 15.12. zur diesjährigen Weihnachtsfeier ein. Starten wird das Event um 19 Uhr im Impact Hub am Hauptbahnhof. Anmelden könnt ihr euch über unser Google Formular.
URL:https://dresden.impacthub.net/event/gruendergarten-weihnachstfeier-mit-moritz-kormann-von-biochar-zero/
LOCATION:Impact Hub Dresden – Hbf\, Bayrische Straße 8\, Dresden\, Sachsen\, 01069\, Deutschland
CATEGORIES:impact hub germany
ATTACH;FMTTYPE=image/png:https://dresden.impacthub.net/wp-content/uploads/2022/12/BIOCHAR-ZERO-UND-WEIHNACHTSFEIER_small.png
ORGANIZER;CN="Gr%C3%BCndergarten e.V.":MAILTO:wir@gruendergarten.de
GEO:51.04002;13.72931
X-APPLE-STRUCTURED-LOCATION;VALUE=URI;X-ADDRESS=Impact Hub Dresden – Hbf Bayrische Straße 8 Dresden Sachsen 01069 Deutschland;X-APPLE-RADIUS=500;X-TITLE=Bayrische Straße 8:geo:13.72931,51.04002
END:VEVENT
BEGIN:VEVENT
DTSTART;TZID=Europe/Helsinki:20220819T090000
DTEND;TZID=Europe/Helsinki:20220819T110000
DTSTAMP:20260420T083149
CREATED:20220815T100700Z
LAST-MODIFIED:20221013T075903Z
UID:10000511-1660899600-1660906800@dresden.impacthub.net
SUMMARY:Insight Talks: „Wie funktioniert das deutsche Gesundheitswesen?“
DESCRIPTION:Die verschiedenen Stakeholder des dt. Gesundheitswesen vernetzen\, Wissen als auch Einsichten teilen und Wege für Innovationen aufzeigen \n\n\nZu diesem Event\n\n\n\nDie Techniker Krankenkasse und das Impact Hub Dresden wollen gemeinsam die teils komplexen Strukturen des deutschen Gesundheitswesen aufzeigen. Es ist unser Anliegen\, die diversen Stakeholder mit Innovator*innen zu vernetzen und dabei in offener Atmosphäre Wege für Gesundheitslösungen zu diskutieren. \nDaher laden wir zu den Insight Talks in gemütlicher Frühstücksrunde in den Impact Hub Galerie ein und freuen uns Alexander Krauß – Leiter der TK-Landesvertretung Sachsen – als ersten Speaker begrüßen zu dürfen. Er wird uns mit seinem Input die Funktionsweise des deutschen Gesundheitswesens näherbringen\, Herausforderungen benennen und Zielkonflikte erläutern. \nWir wünschen Ihnen viel Spaß und bereichernde Gespräche!\n  \nJetzt kostenlos anmelden. \n 
URL:https://dresden.impacthub.net/event/insight-talks-wie-funktioniert-das-deutsche-gesundheitswesen/
LOCATION:Impact Hub Dresden – Hbf\, Bayrische Straße 8\, Dresden\, Sachsen\, 01069\, Deutschland
CATEGORIES:impact hub germany
GEO:51.04002;13.72931
X-APPLE-STRUCTURED-LOCATION;VALUE=URI;X-ADDRESS=Impact Hub Dresden – Hbf Bayrische Straße 8 Dresden Sachsen 01069 Deutschland;X-APPLE-RADIUS=500;X-TITLE=Bayrische Straße 8:geo:13.72931,51.04002
END:VEVENT
BEGIN:VEVENT
DTSTART;TZID=Europe/Helsinki:20220624T173000
DTEND;TZID=Europe/Helsinki:20220624T235900
DTSTAMP:20260420T083149
CREATED:20220608T080528Z
LAST-MODIFIED:20220608T080528Z
UID:10000509-1656091800-1656115140@dresden.impacthub.net
SUMMARY:#ImpactHubBerlin opening party!
DESCRIPTION:„We are super excited to invite you to our grand #ImpactHubBerlin opening party! \n? After officially opening three out of an eventual five floors of coworking\, events and maker spaces\, we’re now ready to celebrate our brand new #circular home with you! \nThe first part of the evening will start off right here\, free of charge\, for an introduction to Impact Hub Berlin and our #CircularEconomy adventure\, before we all move next door to SchwuZ\, where we will dance the night away with select DJ sets. ?? \n? Members\, non-members\, friends\, neighbours and the simply curious are all encouraged to join the fun. We look forward to celebrating with you! ? \nWhen? 24.06.\, 17:30h\nWhere? Impact Hub Berlin & SchwuZ \nBOOK YOUR TICKET
URL:https://dresden.impacthub.net/event/impacthubberlin-opening-party/
LOCATION:Impact Hub Dresden – Hbf\, Bayrische Straße 8\, Dresden\, Sachsen\, 01069\, Deutschland
CATEGORIES:impact hub germany
ATTACH;FMTTYPE=image/png:https://dresden.impacthub.net/wp-content/uploads/2022/06/opening_party_impacthub-berlin.png
GEO:51.04002;13.72931
X-APPLE-STRUCTURED-LOCATION;VALUE=URI;X-ADDRESS=Impact Hub Dresden – Hbf Bayrische Straße 8 Dresden Sachsen 01069 Deutschland;X-APPLE-RADIUS=500;X-TITLE=Bayrische Straße 8:geo:13.72931,51.04002
END:VEVENT
BEGIN:VEVENT
DTSTART;TZID=Europe/Helsinki:20210622T100000
DTEND;TZID=Europe/Helsinki:20210622T120000
DTSTAMP:20260420T083149
CREATED:20210610T121128Z
LAST-MODIFIED:20210610T121438Z
UID:10000503-1624356000-1624363200@dresden.impacthub.net
SUMMARY:Social Entrepreneurship in Sachsen
DESCRIPTION:Wie steht es um Social Entrepreneurship in Sachsen?\nDieser Frage sind wir in unser Umfrage zum Thema “Social Entrepreneurship in Sachsen” in Zusammenarbeit mit dem SEND e.V.und der Beratung für Nachhaltigkeit plant values Ende letzten Jahres nachgegangen. \nSocial Entrepreneure denken soziale Herausforderungen unternehmerisch und entwickeln neue Lösungs- und Finanzierungsmodelle für Gemeinwohl-Erfordernisse. Darüber hinaus erzielen sie mit ihren Ideen viele weitere positive Effekte für die zivilgesellschaftliche Resilienz. \nIn drei inhaltlichen Vorträgen wollen wir über den Stand in Sachsen informieren\, Förderbeispiele aus anderen Bundesländern besprechen und uns von zwei Social Entrepreneuren inspirieren lassen. \nAgenda:\n10:00 bis 10:30 Uhr: Vorstellung und Einblicke in die Ergebnisse der Umfrage mit Steve Grundig | plant values GbR \n10:30 bis 11:00 Uhr: Best Practice Beispiele für Förderangebote in Deutschland mit Sophia Kiefl | S.U.B.kultur Coaching \n11:00 bis 11:30 Uhr: Social Entrepreneurship Insider – zwei Erfahrungsberichte u.a. mit Mathias Born Gründer der payactive GmbH \n11:30 bis 12:00 Uhr: Möglichkeit zur weiteren Diskussion und digitalem Get-together \n  \n\n\nBei Fragen zum Event wenden Sie sich gerne an: connect@impacthubdresden.net \nDie vollständige Umfrage können Sie hier einsehen. \nAuf Ihre Teilnahme freuen wir uns sehr!
URL:https://dresden.impacthub.net/event/social-entrepreneurship-in-sachsen/
LOCATION:Impact Hub Dresden – Hbf\, Bayrische Straße 8\, Dresden\, Sachsen\, 01069\, Deutschland
ATTACH;FMTTYPE=image/jpeg:https://dresden.impacthub.net/wp-content/uploads/2021/06/https-cdn.evbuc_.com-images-136047167-210714776182-1-original.20210520-152115.jpeg
GEO:51.04002;13.72931
X-APPLE-STRUCTURED-LOCATION;VALUE=URI;X-ADDRESS=Impact Hub Dresden – Hbf Bayrische Straße 8 Dresden Sachsen 01069 Deutschland;X-APPLE-RADIUS=500;X-TITLE=Bayrische Straße 8:geo:13.72931,51.04002
END:VEVENT
BEGIN:VEVENT
DTSTART;TZID=Europe/Helsinki:20210527T160000
DTEND;TZID=Europe/Helsinki:20210527T170000
DTSTAMP:20260420T083149
CREATED:20210521T154252Z
LAST-MODIFIED:20210526T114550Z
UID:10000502-1622131200-1622134800@dresden.impacthub.net
SUMMARY:Ask me Anything: Ethereum\, Bitcoin\, Blockchain - was ist Hype\, was ist real?
DESCRIPTION:Wir haben ein Näschen für gutes Timing 🙂 Bereits länger war unser “Ask me Anything” über Blockchain und Cryptowährung geplant! Inmitten der aktuellen Turbulenzen wird das sicher eine interessante Diskussion mit Dr. Johannes Pfeffer der als Co- Founder der apgar AG an der dezentralen Ethereum – basierten Finanzinfrastruktur der Zukunft baut.
URL:https://dresden.impacthub.net/event/ask-me-anything-ethereum-bitcoin-blockchain-was-ist-hype-was-ist-real/
LOCATION:Impact Hub Dresden – Hbf\, Bayrische Straße 8\, Dresden\, Sachsen\, 01069\, Deutschland
CATEGORIES:impact hub germany
ATTACH;FMTTYPE=image/jpeg:https://dresden.impacthub.net/wp-content/uploads/2021/05/pierre-borthiry-vBCVcWUyvyM-unsplash-scaled.jpg
GEO:51.04002;13.72931
X-APPLE-STRUCTURED-LOCATION;VALUE=URI;X-ADDRESS=Impact Hub Dresden – Hbf Bayrische Straße 8 Dresden Sachsen 01069 Deutschland;X-APPLE-RADIUS=500;X-TITLE=Bayrische Straße 8:geo:13.72931,51.04002
END:VEVENT
END:VCALENDAR