
BEGIN:VCALENDAR
VERSION:2.0
PRODID:-//Impact Hub Dresden - ECPv6.15.20//NONSGML v1.0//EN
CALSCALE:GREGORIAN
METHOD:PUBLISH
X-WR-CALNAME:Impact Hub Dresden
X-ORIGINAL-URL:https://dresden.impacthub.net
X-WR-CALDESC:Veranstaltungen für Impact Hub Dresden
REFRESH-INTERVAL;VALUE=DURATION:PT1H
X-Robots-Tag:noindex
X-PUBLISHED-TTL:PT1H
BEGIN:VTIMEZONE
TZID:Europe/Helsinki
BEGIN:DAYLIGHT
TZOFFSETFROM:+0200
TZOFFSETTO:+0300
TZNAME:EEST
DTSTART:20210328T010000
END:DAYLIGHT
BEGIN:STANDARD
TZOFFSETFROM:+0300
TZOFFSETTO:+0200
TZNAME:EET
DTSTART:20211031T010000
END:STANDARD
BEGIN:DAYLIGHT
TZOFFSETFROM:+0200
TZOFFSETTO:+0300
TZNAME:EEST
DTSTART:20220327T010000
END:DAYLIGHT
BEGIN:STANDARD
TZOFFSETFROM:+0300
TZOFFSETTO:+0200
TZNAME:EET
DTSTART:20221030T010000
END:STANDARD
BEGIN:DAYLIGHT
TZOFFSETFROM:+0200
TZOFFSETTO:+0300
TZNAME:EEST
DTSTART:20230326T010000
END:DAYLIGHT
BEGIN:STANDARD
TZOFFSETFROM:+0300
TZOFFSETTO:+0200
TZNAME:EET
DTSTART:20231029T010000
END:STANDARD
END:VTIMEZONE
BEGIN:VEVENT
DTSTART;TZID=Europe/Helsinki:20221215T190000
DTEND;TZID=Europe/Helsinki:20221215T190000
DTSTAMP:20260420T001243
CREATED:20221205T111415Z
LAST-MODIFIED:20221212T173934Z
UID:10000526-1671130800-1671130800@dresden.impacthub.net
SUMMARY:GründerGarten Weihnachstfeier mit Moritz Kormann von biochar zero
DESCRIPTION:Wie lässt sich Weihnachten und Unternehmertum am besten verbinden?\nMit einer Geschäftsidee um den Weihnachtsbaum nachhaltig in die eigenen vier Wände zu bringen. Lebende Weihnachtsbäume im Topf\, die nach Weihnachten aufgeforstet weiterleben können\, als Alternative zum jährlich neuen Weihnachtsbaum. Moritz Kormann bringt uns Anekdoten aus der Zeit als Gründer von baumkind in den GründerGarten. \nNeben seinem alten weihnachtlichen Projekt wird Moritz auch zu seinem neuen Projekt „biochar zero“ einige spannende Fakten erzählen. Pflanzenkohle entsteht aus Biomasse und kann vielseitig im Straßenbau\, bei Rekultivierung von Landschaften oder bei der Wasseraufbereitung eingesetzt werden. Wer mehr zu der genauen Idee hinter „biochar zero“ erfahren möchte\, sollte bei unserem Event dabei sein. \nNeben des spannenden Vortrags erwartet euch weihnachtliche Stimmung und auch Glühwein sowie Plätzchen werden nicht fehlen. \nWir laden euch herzlich am 15.12. zur diesjährigen Weihnachtsfeier ein. Starten wird das Event um 19 Uhr im Impact Hub am Hauptbahnhof. Anmelden könnt ihr euch über unser Google Formular.
URL:https://dresden.impacthub.net/event/gruendergarten-weihnachstfeier-mit-moritz-kormann-von-biochar-zero/
LOCATION:Impact Hub Dresden – Hbf\, Bayrische Straße 8\, Dresden\, Sachsen\, 01069\, Deutschland
CATEGORIES:impact hub germany
ATTACH;FMTTYPE=image/png:https://dresden.impacthub.net/wp-content/uploads/2022/12/BIOCHAR-ZERO-UND-WEIHNACHTSFEIER_small.png
ORGANIZER;CN="Gr%C3%BCndergarten e.V.":MAILTO:wir@gruendergarten.de
GEO:51.04002;13.72931
X-APPLE-STRUCTURED-LOCATION;VALUE=URI;X-ADDRESS=Impact Hub Dresden – Hbf Bayrische Straße 8 Dresden Sachsen 01069 Deutschland;X-APPLE-RADIUS=500;X-TITLE=Bayrische Straße 8:geo:13.72931,51.04002
END:VEVENT
END:VCALENDAR